BEGIN:VCALENDAR
VERSION:2.0
PRODID:-//La cie du Dahu - ECPv6.15.10//NONSGML v1.0//EN
CALSCALE:GREGORIAN
METHOD:PUBLISH
X-WR-CALNAME:La cie du Dahu
X-ORIGINAL-URL:https://laciedudahu.fr/blog
X-WR-CALDESC:Évènements pour La cie du Dahu
REFRESH-INTERVAL;VALUE=DURATION:PT1H
X-Robots-Tag:noindex
X-PUBLISHED-TTL:PT1H
BEGIN:VTIMEZONE
TZID:Europe/Paris
BEGIN:DAYLIGHT
TZOFFSETFROM:+0100
TZOFFSETTO:+0200
TZNAME:CEST
DTSTART:20250330T010000
END:DAYLIGHT
BEGIN:STANDARD
TZOFFSETFROM:+0200
TZOFFSETTO:+0100
TZNAME:CET
DTSTART:20251026T010000
END:STANDARD
BEGIN:DAYLIGHT
TZOFFSETFROM:+0100
TZOFFSETTO:+0200
TZNAME:CEST
DTSTART:20260329T010000
END:DAYLIGHT
BEGIN:STANDARD
TZOFFSETFROM:+0200
TZOFFSETTO:+0100
TZNAME:CET
DTSTART:20261025T010000
END:STANDARD
BEGIN:DAYLIGHT
TZOFFSETFROM:+0100
TZOFFSETTO:+0200
TZNAME:CEST
DTSTART:20270328T010000
END:DAYLIGHT
BEGIN:STANDARD
TZOFFSETFROM:+0200
TZOFFSETTO:+0100
TZNAME:CET
DTSTART:20271031T010000
END:STANDARD
END:VTIMEZONE
BEGIN:VEVENT
DTSTART;TZID=Europe/Paris:20260528T180000
DTEND;TZID=Europe/Paris:20260528T193000
DTSTAMP:20260424T012359
CREATED:20260120T131411Z
LAST-MODIFIED:20260120T131411Z
UID:1451-1779991200-1779996600@laciedudahu.fr
SUMMARY:Atelier - L’Afterwork ludique - Les vins rouges faciles à boire
DESCRIPTION: Afterwork ludique – Les rouges faciles à boire\nAprès le boulot\, place au plaisir ! \nDes rouges accessibles\, gourmands\, faciles à partager\, sans prise de tête.\n3 vins\, une planche à partager et un moment convivial. \nComposez votre groupe entre 6 et 8 participants \n Sur inscription\npar Tel. au 06 68 78 98 14\nou par mail : info@laciedudahu.fr \n  \nL’abus d’alcool est dangereux pour la santé. A consommer avec modération.
URL:https://laciedudahu.fr/blog/evenement/atelier-lafterwork-ludique-les-vins-rouges-faciles-a-boire/2026-05-28/
LOCATION:La Cie du Dahu\, 309 Route du Clos du May\, Eteaux\, 74800\, France
CATEGORIES:Apéritif - Initiation
ATTACH;FMTTYPE=image/png:https://laciedudahu.fr/blog/wp-content/uploads/2026/01/Atelier-7-AL-Les-rouges-faciles-a-boire.png
ORGANIZER;CN="La Cie du Dahu":MAILTO:info@laciedudahu.fr
GEO:46.063744691099;6.2923788693173
X-APPLE-STRUCTURED-LOCATION;VALUE=URI;X-ADDRESS=La Cie du Dahu 309 Route du Clos du May Eteaux 74800 France;X-APPLE-RADIUS=500;X-TITLE=309 Route du Clos du May:geo:6.2923788693173,46.063744691099
END:VEVENT
BEGIN:VEVENT
DTSTART;TZID=Europe/Paris:20261021T180000
DTEND;TZID=Europe/Paris:20261021T193000
DTSTAMP:20260424T012359
CREATED:20260120T131411Z
LAST-MODIFIED:20260120T131411Z
UID:1452-1792605600-1792611000@laciedudahu.fr
SUMMARY:Atelier - L’Afterwork ludique - Les vins rouges faciles à boire
DESCRIPTION: Afterwork ludique – Les rouges faciles à boire\nAprès le boulot\, place au plaisir ! \nDes rouges accessibles\, gourmands\, faciles à partager\, sans prise de tête.\n3 vins\, une planche à partager et un moment convivial. \nComposez votre groupe entre 6 et 8 participants \n Sur inscription\npar Tel. au 06 68 78 98 14\nou par mail : info@laciedudahu.fr \n  \nL’abus d’alcool est dangereux pour la santé. A consommer avec modération.
URL:https://laciedudahu.fr/blog/evenement/atelier-lafterwork-ludique-les-vins-rouges-faciles-a-boire/2026-10-21/
LOCATION:La Cie du Dahu\, 309 Route du Clos du May\, Eteaux\, 74800\, France
CATEGORIES:Apéritif - Initiation
ATTACH;FMTTYPE=image/png:https://laciedudahu.fr/blog/wp-content/uploads/2026/01/Atelier-7-AL-Les-rouges-faciles-a-boire.png
ORGANIZER;CN="La Cie du Dahu":MAILTO:info@laciedudahu.fr
GEO:46.063744691099;6.2923788693173
X-APPLE-STRUCTURED-LOCATION;VALUE=URI;X-ADDRESS=La Cie du Dahu 309 Route du Clos du May Eteaux 74800 France;X-APPLE-RADIUS=500;X-TITLE=309 Route du Clos du May:geo:6.2923788693173,46.063744691099
END:VEVENT
END:VCALENDAR