BEGIN:VCALENDAR
VERSION:2.0
PRODID:-//La cie du Dahu - ECPv6.15.10//NONSGML v1.0//EN
CALSCALE:GREGORIAN
METHOD:PUBLISH
X-ORIGINAL-URL:https://laciedudahu.fr/blog
X-WR-CALDESC:Évènements pour La cie du Dahu
REFRESH-INTERVAL;VALUE=DURATION:PT1H
X-Robots-Tag:noindex
X-PUBLISHED-TTL:PT1H
BEGIN:VTIMEZONE
TZID:Europe/Paris
BEGIN:DAYLIGHT
TZOFFSETFROM:+0100
TZOFFSETTO:+0200
TZNAME:CEST
DTSTART:20200329T010000
END:DAYLIGHT
BEGIN:STANDARD
TZOFFSETFROM:+0200
TZOFFSETTO:+0100
TZNAME:CET
DTSTART:20201025T010000
END:STANDARD
BEGIN:DAYLIGHT
TZOFFSETFROM:+0100
TZOFFSETTO:+0200
TZNAME:CEST
DTSTART:20210328T010000
END:DAYLIGHT
BEGIN:STANDARD
TZOFFSETFROM:+0200
TZOFFSETTO:+0100
TZNAME:CET
DTSTART:20211031T010000
END:STANDARD
BEGIN:DAYLIGHT
TZOFFSETFROM:+0100
TZOFFSETTO:+0200
TZNAME:CEST
DTSTART:20220327T010000
END:DAYLIGHT
BEGIN:STANDARD
TZOFFSETFROM:+0200
TZOFFSETTO:+0100
TZNAME:CET
DTSTART:20221030T010000
END:STANDARD
END:VTIMEZONE
BEGIN:VEVENT
DTSTART;TZID=Europe/Paris:20210529T100000
DTEND;TZID=Europe/Paris:20210529T190000
DTSTAMP:20260422T065847
CREATED:20210518T200756Z
LAST-MODIFIED:20210519T122151Z
UID:441-1622282400-1622314800@laciedudahu.fr
SUMMARY:Dégustation à la Cave - Clos Bellane à l'honneur
DESCRIPTION:  \nLe temps d’une journée\, un Vigneron est mis à l’honneur à La Cave. \n Il vous parlera de son Domaine et vous fera découvrir ses créations.\nMoment de partage et de convivialité. \nDégustation à la cave ce Samedi 29 Mai avec Marianne \n \nSuivre Clos Bellane
URL:https://laciedudahu.fr/blog/evenement/degustation-a-la-cave-clos-bellane-a-lhonneur/
CATEGORIES:Dégustation à la Cave
ATTACH;FMTTYPE=image/jpeg:https://laciedudahu.fr/blog/wp-content/uploads/2021/04/la-cie-du-dahu-conseils-choix.jpg
END:VEVENT
BEGIN:VEVENT
DTSTART;TZID=Europe/Paris:20210529T100000
DTEND;TZID=Europe/Paris:20210529T190000
DTSTAMP:20260422T065847
CREATED:20210519T125817Z
LAST-MODIFIED:20210520T122837Z
UID:450-1622282400-1622314800@laciedudahu.fr
SUMMARY:Verres LEHMANN et Food Truck ECO FOOD
DESCRIPTION:Présentation des Verres LEHMANN  \ntout au long de la journée\, \net pourquoi pas des idées cadeaux pour la Fêtes des Mamans \n \nA l’heure du Déjeuner\,  \nLe Food Truck : ECO FOOD – BURGER BIO \nSera sur le parking de la Cave pour vous de 11h à 15h. \n \nSuivez-le \nSur place ou à emporter\,  \nn’hésitez à pré-commander au 07 49 93 64 07 si vous le pouvez.
URL:https://laciedudahu.fr/blog/evenement/verres-lehmann-et-food-truck-eco-food/
LOCATION:La Cie du Dahu\, 309 Route du Clos du May\, Eteaux\, 74800\, France
CATEGORIES:Dégustation à la Cave
ATTACH;FMTTYPE=image/png:https://laciedudahu.fr/blog/wp-content/uploads/2021/05/Cie-du-Dahu-Post-FB-29.05-Clos-Bellane-1.png
GEO:46.063744691099;6.2923788693173
X-APPLE-STRUCTURED-LOCATION;VALUE=URI;X-ADDRESS=La Cie du Dahu 309 Route du Clos du May Eteaux 74800 France;X-APPLE-RADIUS=500;X-TITLE=309 Route du Clos du May:geo:6.2923788693173,46.063744691099
END:VEVENT
END:VCALENDAR