BEGIN:VCALENDAR
VERSION:2.0
PRODID:-//La cie du Dahu - ECPv6.15.10//NONSGML v1.0//EN
CALSCALE:GREGORIAN
METHOD:PUBLISH
X-WR-CALNAME:La cie du Dahu
X-ORIGINAL-URL:https://laciedudahu.fr/blog
X-WR-CALDESC:Évènements pour La cie du Dahu
REFRESH-INTERVAL;VALUE=DURATION:PT1H
X-Robots-Tag:noindex
X-PUBLISHED-TTL:PT1H
BEGIN:VTIMEZONE
TZID:Europe/Paris
BEGIN:DAYLIGHT
TZOFFSETFROM:+0100
TZOFFSETTO:+0200
TZNAME:CEST
DTSTART:20210328T010000
END:DAYLIGHT
BEGIN:STANDARD
TZOFFSETFROM:+0200
TZOFFSETTO:+0100
TZNAME:CET
DTSTART:20211031T010000
END:STANDARD
BEGIN:DAYLIGHT
TZOFFSETFROM:+0100
TZOFFSETTO:+0200
TZNAME:CEST
DTSTART:20220327T010000
END:DAYLIGHT
BEGIN:STANDARD
TZOFFSETFROM:+0200
TZOFFSETTO:+0100
TZNAME:CET
DTSTART:20221030T010000
END:STANDARD
BEGIN:DAYLIGHT
TZOFFSETFROM:+0100
TZOFFSETTO:+0200
TZNAME:CEST
DTSTART:20230326T010000
END:DAYLIGHT
BEGIN:STANDARD
TZOFFSETFROM:+0200
TZOFFSETTO:+0100
TZNAME:CET
DTSTART:20231029T010000
END:STANDARD
END:VTIMEZONE
BEGIN:VEVENT
DTSTART;TZID=Europe/Paris:20220514T100000
DTEND;TZID=Europe/Paris:20220514T200000
DTSTAMP:20260419T140000
CREATED:20220317T105017Z
LAST-MODIFIED:20220502T115826Z
UID:817-1652522400-1652558400@laciedudahu.fr
SUMMARY:Evénement - Les Trouvailles du Chineur
DESCRIPTION:Cette fois-ci\, c’est dans son jardin que \nla Cie du Dahu vous accueille. \n  \nAu programme : \n– 3 Vignerons pour la dégustation \n– 1 Jeu Concours \n– 1 Grignotage midi & soir \n– Château gonflable pour les petits \n– 1 Livret recettes Accords Mets et Vins dédicacé à chaque visiteur \n \nIls vous accueillerons : \n  Domaine Le Clos Riviéral\,\n« Célia et Olivier Bellet sont des passionnés très accessibles et le public est conquis par leur discours. Clos Rivieral est un domaine en constante progression du fait de la gamme et des parfaites connaissances des propriétaires. Ils sont promis à un bel avenir. »\n\n\n  Domaine Dieulefit \,\n« Rémi et Géraldine Pouizin élaborent des vins bios représentés par cinq poussins\, leurs 5 enfants.\nRémi est un passionné d’agronomie favorisant le vivant du sol et du végétal. Depuis 20 ans il développe des méthodes issues de la culture biologique et biodynamique afin d’obtenir des raisins sains et purs sans résidus.»\n\n\n\n  Champagne E.Lacour \,\n« Eric c’est d’abord un fin dégustateur\, exigeant dans tout ce qu’il fait. Il s’intéresse aux autres vignerons et n’hésite pas à se remettre en question. Il produit des champagnes très soignés et prêts à boire. »\n\n\nEntrée Libre\nEvénement couvert selon la météo
URL:https://laciedudahu.fr/blog/evenement/evenement-le-gout-dans-les-jardins-de-la-cie-du-dahu/
LOCATION:La Cie du Dahu\, 309 Route du Clos du May\, Eteaux\, 74800\, France
CATEGORIES:Dégustation à la Cave,Présence de Partenaires
ATTACH;FMTTYPE=image/png:https://laciedudahu.fr/blog/wp-content/uploads/2022/03/Story.png
ORGANIZER;CN="La Cie du Dahu":MAILTO:info@laciedudahu.fr
GEO:46.063744691099;6.2923788693173
X-APPLE-STRUCTURED-LOCATION;VALUE=URI;X-ADDRESS=La Cie du Dahu 309 Route du Clos du May Eteaux 74800 France;X-APPLE-RADIUS=500;X-TITLE=309 Route du Clos du May:geo:6.2923788693173,46.063744691099
END:VEVENT
END:VCALENDAR