BEGIN:VCALENDAR
VERSION:2.0
PRODID:-//La cie du Dahu - ECPv6.15.10//NONSGML v1.0//EN
CALSCALE:GREGORIAN
METHOD:PUBLISH
X-WR-CALNAME:La cie du Dahu
X-ORIGINAL-URL:https://laciedudahu.fr/blog
X-WR-CALDESC:Évènements pour La cie du Dahu
REFRESH-INTERVAL;VALUE=DURATION:PT1H
X-Robots-Tag:noindex
X-PUBLISHED-TTL:PT1H
BEGIN:VTIMEZONE
TZID:Europe/Paris
BEGIN:DAYLIGHT
TZOFFSETFROM:+0100
TZOFFSETTO:+0200
TZNAME:CEST
DTSTART:20200329T010000
END:DAYLIGHT
BEGIN:STANDARD
TZOFFSETFROM:+0200
TZOFFSETTO:+0100
TZNAME:CET
DTSTART:20201025T010000
END:STANDARD
BEGIN:DAYLIGHT
TZOFFSETFROM:+0100
TZOFFSETTO:+0200
TZNAME:CEST
DTSTART:20210328T010000
END:DAYLIGHT
BEGIN:STANDARD
TZOFFSETFROM:+0200
TZOFFSETTO:+0100
TZNAME:CET
DTSTART:20211031T010000
END:STANDARD
BEGIN:DAYLIGHT
TZOFFSETFROM:+0100
TZOFFSETTO:+0200
TZNAME:CEST
DTSTART:20220327T010000
END:DAYLIGHT
BEGIN:STANDARD
TZOFFSETFROM:+0200
TZOFFSETTO:+0100
TZNAME:CET
DTSTART:20221030T010000
END:STANDARD
END:VTIMEZONE
BEGIN:VEVENT
DTSTART;TZID=Europe/Paris:20210611T190000
DTEND;TZID=Europe/Paris:20210611T223000
DTSTAMP:20260422T083142
CREATED:20210519T190800Z
LAST-MODIFIED:20210608T201520Z
UID:468-1623438000-1623450600@laciedudahu.fr
SUMMARY:COMPLET - Dîner Accords Mets & Vins - Les Terrasses du Larzac
DESCRIPTION:COMPLET \nUne Table de 6 convives. \n5 références proposées tout au long d’un périple de 2h30 à 3h. \nCe soir\, Le Chat Touilleur\,  \n \nélabore un repas pour mettre en valeur sa cuisine et\nles vins sélectionnés par le Chineur de vin\, Patrick. \n Domaine au Centre de la soirée :\nClos Rivieral\, Cécilia et Olivier Bellet\, 34700 Le Bosc. \n \n 
URL:https://laciedudahu.fr/blog/evenement/diner-accords-mets-vins-les-terrasses-du-larzac/
LOCATION:La Cie du Dahu\, 309 Route du Clos du May\, Eteaux\, 74800\, France
CATEGORIES:Dîner Accords Mets et Vins
ATTACH;FMTTYPE=image/jpeg:https://laciedudahu.fr/blog/wp-content/uploads/2021/04/la-cie-du-dahu-epicurien.jpg
ORGANIZER;CN="La Cie du Dahu":MAILTO:info@laciedudahu.fr
GEO:46.063744691099;6.2923788693173
X-APPLE-STRUCTURED-LOCATION;VALUE=URI;X-ADDRESS=La Cie du Dahu 309 Route du Clos du May Eteaux 74800 France;X-APPLE-RADIUS=500;X-TITLE=309 Route du Clos du May:geo:6.2923788693173,46.063744691099
END:VEVENT
BEGIN:VEVENT
DTSTART;TZID=Europe/Paris:20210618T190000
DTEND;TZID=Europe/Paris:20210618T223000
DTSTAMP:20260422T083142
CREATED:20210519T201000Z
LAST-MODIFIED:20210519T201000Z
UID:490-1624042800-1624055400@laciedudahu.fr
SUMMARY:Dîner Accords Mets & Vins - Beaujolais et Minervois
DESCRIPTION:Une Table de 6 convives. \n5 références proposées tout au long d’un périple de 2h30 à 3h. \nCe soir\, Le Chat Touilleur\,  \n \nélabore un repas pour mettre en valeur sa cuisine et\nles vins sélectionnés par le Chineur de vin\, Patrick. \n Domaines au Centre de la soirée :\n \nBeaujolais – Cédric LECAREUX – Domaine Les Capréoles\, bio \n \nET \nMinervois – Barbara Sibille – Domaine Sibille\, bio \n \n 
URL:https://laciedudahu.fr/blog/evenement/diner-accords-mets-vins-beaujolais-et-minervois/
LOCATION:La Cie du Dahu\, 309 Route du Clos du May\, Eteaux\, 74800\, France
CATEGORIES:Dîner Accords Mets et Vins
ATTACH;FMTTYPE=image/jpeg:https://laciedudahu.fr/blog/wp-content/uploads/2021/04/la-cie-du-dahu-gouleyant.jpg
ORGANIZER;CN="La Cie du Dahu":MAILTO:info@laciedudahu.fr
GEO:46.063744691099;6.2923788693173
X-APPLE-STRUCTURED-LOCATION;VALUE=URI;X-ADDRESS=La Cie du Dahu 309 Route du Clos du May Eteaux 74800 France;X-APPLE-RADIUS=500;X-TITLE=309 Route du Clos du May:geo:6.2923788693173,46.063744691099
END:VEVENT
BEGIN:VEVENT
DTSTART;TZID=Europe/Paris:20210625T190000
DTEND;TZID=Europe/Paris:20210625T223000
DTSTAMP:20260422T083142
CREATED:20210520T124730Z
LAST-MODIFIED:20210520T125531Z
UID:525-1624647600-1624660200@laciedudahu.fr
SUMMARY:Dîner Accords Mets & Vins - Thème libre
DESCRIPTION:Une Table de 6 convives. \n5 références proposées tout au long d’un périple de 2h30 à 3h. \nCe soir là\, Le Chat Touilleur\,  \n \nélabore un repas pour mettre en valeur sa cuisine et\nles vins sélectionnés par le Chineur de vin\, Patrick. \nLe thème est libre de choix\, mais voici quelques idées :\n Les Vins Locaux\,\nLes Costières de Nîmes\,\nLe Roussillon\,\nLe Rhône et sa Déclinaison de Grenache\nLanguedoc\,\nBourgogne\,\nChâteauneuf\,\nde Bergerac à Bordeaux \n  \n 
URL:https://laciedudahu.fr/blog/evenement/diner-accords-mets-vins-theme-libre/
LOCATION:La Cie du Dahu\, 309 Route du Clos du May\, Eteaux\, 74800\, France
CATEGORIES:Dîner Accords Mets et Vins
ATTACH;FMTTYPE=image/jpeg:https://laciedudahu.fr/blog/wp-content/uploads/2021/04/la-cie-du-dahu-epicurien.jpg
ORGANIZER;CN="La Cie du Dahu":MAILTO:info@laciedudahu.fr
GEO:46.063744691099;6.2923788693173
X-APPLE-STRUCTURED-LOCATION;VALUE=URI;X-ADDRESS=La Cie du Dahu 309 Route du Clos du May Eteaux 74800 France;X-APPLE-RADIUS=500;X-TITLE=309 Route du Clos du May:geo:6.2923788693173,46.063744691099
END:VEVENT
END:VCALENDAR