BEGIN:VCALENDAR
VERSION:2.0
PRODID:-//La cie du Dahu - ECPv6.15.10//NONSGML v1.0//EN
CALSCALE:GREGORIAN
METHOD:PUBLISH
X-WR-CALNAME:La cie du Dahu
X-ORIGINAL-URL:https://laciedudahu.fr/blog
X-WR-CALDESC:Évènements pour La cie du Dahu
REFRESH-INTERVAL;VALUE=DURATION:PT1H
X-Robots-Tag:noindex
X-PUBLISHED-TTL:PT1H
BEGIN:VTIMEZONE
TZID:Europe/Paris
BEGIN:DAYLIGHT
TZOFFSETFROM:+0100
TZOFFSETTO:+0200
TZNAME:CEST
DTSTART:20200329T010000
END:DAYLIGHT
BEGIN:STANDARD
TZOFFSETFROM:+0200
TZOFFSETTO:+0100
TZNAME:CET
DTSTART:20201025T010000
END:STANDARD
BEGIN:DAYLIGHT
TZOFFSETFROM:+0100
TZOFFSETTO:+0200
TZNAME:CEST
DTSTART:20210328T010000
END:DAYLIGHT
BEGIN:STANDARD
TZOFFSETFROM:+0200
TZOFFSETTO:+0100
TZNAME:CET
DTSTART:20211031T010000
END:STANDARD
BEGIN:DAYLIGHT
TZOFFSETFROM:+0100
TZOFFSETTO:+0200
TZNAME:CEST
DTSTART:20220327T010000
END:DAYLIGHT
BEGIN:STANDARD
TZOFFSETFROM:+0200
TZOFFSETTO:+0100
TZNAME:CET
DTSTART:20221030T010000
END:STANDARD
END:VTIMEZONE
BEGIN:VEVENT
DTSTART;TZID=Europe/Paris:20210908T180000
DTEND;TZID=Europe/Paris:20210908T200000
DTSTAMP:20260424T052206
CREATED:20210629T131649Z
LAST-MODIFIED:20210920T092829Z
UID:603-1631124000-1631131200@laciedudahu.fr
SUMMARY:Apéritif - Dégustation
DESCRIPTION:Apéritif autour du vin. \nPour 6 pers. \n5 références proposées à la dégustation\,  \nle tout accompagné d’un grignotage local de qualité. \n \nThème libre ou guidé par Patrick\, Le Chineur.
URL:https://laciedudahu.fr/blog/evenement/aperitif-degustation-5/2021-09-08/
LOCATION:La Cie du Dahu\, 309 Route du Clos du May\, Eteaux\, 74800\, France
CATEGORIES:Apéritif - Dégustation
ATTACH;FMTTYPE=image/jpeg:https://laciedudahu.fr/blog/wp-content/uploads/2021/04/la-cie-du-dahu-vin-bio.jpg
ORGANIZER;CN="La Cie du Dahu":MAILTO:info@laciedudahu.fr
GEO:46.063744691099;6.2923788693173
X-APPLE-STRUCTURED-LOCATION;VALUE=URI;X-ADDRESS=La Cie du Dahu 309 Route du Clos du May Eteaux 74800 France;X-APPLE-RADIUS=500;X-TITLE=309 Route du Clos du May:geo:6.2923788693173,46.063744691099
END:VEVENT
BEGIN:VEVENT
DTSTART;TZID=Europe/Paris:20210925T090000
DTEND;TZID=Europe/Paris:20210925T140000
DTSTAMP:20260424T052206
CREATED:20210915T070054Z
LAST-MODIFIED:20210915T070054Z
UID:637-1632560400-1632578400@laciedudahu.fr
SUMMARY:Dégustation Royal Seyssel - Domaine Gérard LAMBERT
DESCRIPTION:Le temps d’une journée\, un Vigneron est mis à l’honneur à La Cave. \n Il vous parlera de son Domaine et vous fera découvrir ses créations.\nMoment de partage et de convivialité. \nDégustation à la cave avec Gérard LAMBERT ce  \nSamedi 25 Septembre\nde 9h à 14h  \n« Royal Seyssel et Cuvées en Biodynamie » \nSuivre Le Domaine Gérard LAMBERT \n \n 
URL:https://laciedudahu.fr/blog/evenement/degustation-royal-seyssel-domaine-gerard-lambert/
LOCATION:La Cie du Dahu\, 309 Route du Clos du May\, Eteaux\, 74800\, France
CATEGORIES:Dégustation à la Cave
ATTACH;FMTTYPE=image/jpeg:https://laciedudahu.fr/blog/wp-content/uploads/2021/09/Royal-Seyssel-Logo.jpeg
ORGANIZER;CN="La Cie du Dahu":MAILTO:info@laciedudahu.fr
GEO:46.063744691099;6.2923788693173
X-APPLE-STRUCTURED-LOCATION;VALUE=URI;X-ADDRESS=La Cie du Dahu 309 Route du Clos du May Eteaux 74800 France;X-APPLE-RADIUS=500;X-TITLE=309 Route du Clos du May:geo:6.2923788693173,46.063744691099
END:VEVENT
END:VCALENDAR