BEGIN:VCALENDAR
VERSION:2.0
PRODID:-//La cie du Dahu - ECPv6.15.10//NONSGML v1.0//EN
CALSCALE:GREGORIAN
METHOD:PUBLISH
X-ORIGINAL-URL:https://laciedudahu.fr/blog
X-WR-CALDESC:Évènements pour La cie du Dahu
REFRESH-INTERVAL;VALUE=DURATION:PT1H
X-Robots-Tag:noindex
X-PUBLISHED-TTL:PT1H
BEGIN:VTIMEZONE
TZID:Europe/Paris
BEGIN:DAYLIGHT
TZOFFSETFROM:+0100
TZOFFSETTO:+0200
TZNAME:CEST
DTSTART:20200329T010000
END:DAYLIGHT
BEGIN:STANDARD
TZOFFSETFROM:+0200
TZOFFSETTO:+0100
TZNAME:CET
DTSTART:20201025T010000
END:STANDARD
BEGIN:DAYLIGHT
TZOFFSETFROM:+0100
TZOFFSETTO:+0200
TZNAME:CEST
DTSTART:20210328T010000
END:DAYLIGHT
BEGIN:STANDARD
TZOFFSETFROM:+0200
TZOFFSETTO:+0100
TZNAME:CET
DTSTART:20211031T010000
END:STANDARD
BEGIN:DAYLIGHT
TZOFFSETFROM:+0100
TZOFFSETTO:+0200
TZNAME:CEST
DTSTART:20220327T010000
END:DAYLIGHT
BEGIN:STANDARD
TZOFFSETFROM:+0200
TZOFFSETTO:+0100
TZNAME:CET
DTSTART:20221030T010000
END:STANDARD
END:VTIMEZONE
BEGIN:VEVENT
DTSTART;TZID=Europe/Paris:20210828T110000
DTEND;TZID=Europe/Paris:20210828T140000
DTSTAMP:20260423T112132
CREATED:20210808T101455Z
LAST-MODIFIED:20210808T101558Z
UID:627-1630148400-1630159200@laciedudahu.fr
SUMMARY:Food truck à l'heure du Déjeuner - Nomade Cook
DESCRIPTION:  \nA l’heure du Déjeuner\, \n \n« Nomade Cook » cuisinera pour vous \nIl sera sur le parking de la Cave de 11h à 14h \nRetrouvez-le sur Facebook \nLa Sélection du jour \nDiots\n(cuisinés à la Bière  »reine du jour »)\nCrozets et Salade Verte\nFormule à 12 € \nSur place ou à emporter\,\nN’hésitez à pré-commander au 06 71 07 26 21 si vous le pouvez.
URL:https://laciedudahu.fr/blog/evenement/food-truck-a-lheure-du-dejeuner-nomade-cook/
LOCATION:La Cie du Dahu\, 309 Route du Clos du May\, Eteaux\, 74800\, France
CATEGORIES:Dégustation à la Cave,Présence de Partenaires
ATTACH;FMTTYPE=image/png:https://laciedudahu.fr/blog/wp-content/uploads/2021/08/Cie-du-Dahu-Post-FB-28.08-Brasserie-744-e1628417000261.png
ORGANIZER;CN="La Cie du Dahu":MAILTO:info@laciedudahu.fr
GEO:46.063744691099;6.2923788693173
X-APPLE-STRUCTURED-LOCATION;VALUE=URI;X-ADDRESS=La Cie du Dahu 309 Route du Clos du May Eteaux 74800 France;X-APPLE-RADIUS=500;X-TITLE=309 Route du Clos du May:geo:6.2923788693173,46.063744691099
END:VEVENT
END:VCALENDAR