BEGIN:VCALENDAR
VERSION:2.0
PRODID:-//La cie du Dahu - ECPv6.15.10//NONSGML v1.0//EN
CALSCALE:GREGORIAN
METHOD:PUBLISH
X-ORIGINAL-URL:https://laciedudahu.fr/blog
X-WR-CALDESC:Évènements pour La cie du Dahu
REFRESH-INTERVAL;VALUE=DURATION:PT1H
X-Robots-Tag:noindex
X-PUBLISHED-TTL:PT1H
BEGIN:VTIMEZONE
TZID:Europe/Paris
BEGIN:DAYLIGHT
TZOFFSETFROM:+0100
TZOFFSETTO:+0200
TZNAME:CEST
DTSTART:20200329T010000
END:DAYLIGHT
BEGIN:STANDARD
TZOFFSETFROM:+0200
TZOFFSETTO:+0100
TZNAME:CET
DTSTART:20201025T010000
END:STANDARD
BEGIN:DAYLIGHT
TZOFFSETFROM:+0100
TZOFFSETTO:+0200
TZNAME:CEST
DTSTART:20210328T010000
END:DAYLIGHT
BEGIN:STANDARD
TZOFFSETFROM:+0200
TZOFFSETTO:+0100
TZNAME:CET
DTSTART:20211031T010000
END:STANDARD
BEGIN:DAYLIGHT
TZOFFSETFROM:+0100
TZOFFSETTO:+0200
TZNAME:CEST
DTSTART:20220327T010000
END:DAYLIGHT
BEGIN:STANDARD
TZOFFSETFROM:+0200
TZOFFSETTO:+0100
TZNAME:CET
DTSTART:20221030T010000
END:STANDARD
END:VTIMEZONE
BEGIN:VEVENT
DTSTART;VALUE=DATE:20210620
DTEND;VALUE=DATE:20210621
DTSTAMP:20260424T174740
CREATED:20210519T203337Z
LAST-MODIFIED:20210520T133816Z
UID:501-1624147200-1624233599@laciedudahu.fr
SUMMARY:Mémo - Fêtes des Pères
DESCRIPTION:Et pourquoi pas faire durer la Fête des Papas pendant 10 mois. \nL’idée est toute trouvée\,\nsoit avec ce nouveau Contrat 10 Vins\nou sous forme d’un Chèque Cadeau \n  \nBienvenue dans la Tribu des  »Chineurs et Cie »
URL:https://laciedudahu.fr/blog/evenement/memo-fetes-des-peres/
LOCATION:La Cie du Dahu\, 309 Route du Clos du May\, Eteaux\, 74800\, France
ATTACH;FMTTYPE=image/png:https://laciedudahu.fr/blog/wp-content/uploads/2021/05/Offre-10-Vins-La-Cie-du-Dahu-Post-FB.png
ORGANIZER;CN="La Cie du Dahu":MAILTO:info@laciedudahu.fr
GEO:46.063744691099;6.2923788693173
X-APPLE-STRUCTURED-LOCATION;VALUE=URI;X-ADDRESS=La Cie du Dahu 309 Route du Clos du May Eteaux 74800 France;X-APPLE-RADIUS=500;X-TITLE=309 Route du Clos du May:geo:6.2923788693173,46.063744691099
END:VEVENT
BEGIN:VEVENT
DTSTART;TZID=Europe/Paris:20210624T180000
DTEND;TZID=Europe/Paris:20210624T200000
DTSTAMP:20260424T174740
CREATED:20210520T123624Z
LAST-MODIFIED:20210520T123624Z
UID:523-1624557600-1624564800@laciedudahu.fr
SUMMARY:Apéritif - Dégustation
DESCRIPTION:Apéritif autour du vin. \nPour 6 pers. \n5 références proposées à la dégustation\,  \nle tout accompagné d’un grignotage local de qualité. \n \nThème libre ou guidé par Patrick\, Le Chineur.
URL:https://laciedudahu.fr/blog/evenement/aperitif-degustation-4/
LOCATION:La Cie du Dahu\, 309 Route du Clos du May\, Eteaux\, 74800\, France
CATEGORIES:Apéritif - Dégustation
ATTACH;FMTTYPE=image/jpeg:https://laciedudahu.fr/blog/wp-content/uploads/2021/04/la-cie-du-dahu-habite-sur-place.jpg
ORGANIZER;CN="La Cie du Dahu":MAILTO:info@laciedudahu.fr
GEO:46.063744691099;6.2923788693173
X-APPLE-STRUCTURED-LOCATION;VALUE=URI;X-ADDRESS=La Cie du Dahu 309 Route du Clos du May Eteaux 74800 France;X-APPLE-RADIUS=500;X-TITLE=309 Route du Clos du May:geo:6.2923788693173,46.063744691099
END:VEVENT
END:VCALENDAR